BEGIN:VCALENDAR
VERSION:2.0
PRODID:-//Le Temps d&#039;un Café - ECPv6.15.20//NONSGML v1.0//EN
CALSCALE:GREGORIAN
METHOD:PUBLISH
X-WR-CALNAME:Le Temps d&#039;un Café
X-ORIGINAL-URL:https://letempsduncafebalma.fr
X-WR-CALDESC:Évènements pour Le Temps d&#039;un Café
REFRESH-INTERVAL;VALUE=DURATION:PT1H
X-Robots-Tag:noindex
X-PUBLISHED-TTL:PT1H
BEGIN:VTIMEZONE
TZID:Europe/Paris
BEGIN:DAYLIGHT
TZOFFSETFROM:+0100
TZOFFSETTO:+0200
TZNAME:CEST
DTSTART:20240331T010000
END:DAYLIGHT
BEGIN:STANDARD
TZOFFSETFROM:+0200
TZOFFSETTO:+0100
TZNAME:CET
DTSTART:20241027T010000
END:STANDARD
BEGIN:DAYLIGHT
TZOFFSETFROM:+0100
TZOFFSETTO:+0200
TZNAME:CEST
DTSTART:20250330T010000
END:DAYLIGHT
BEGIN:STANDARD
TZOFFSETFROM:+0200
TZOFFSETTO:+0100
TZNAME:CET
DTSTART:20251026T010000
END:STANDARD
BEGIN:DAYLIGHT
TZOFFSETFROM:+0100
TZOFFSETTO:+0200
TZNAME:CEST
DTSTART:20260329T010000
END:DAYLIGHT
BEGIN:STANDARD
TZOFFSETFROM:+0200
TZOFFSETTO:+0100
TZNAME:CET
DTSTART:20261025T010000
END:STANDARD
END:VTIMEZONE
BEGIN:VEVENT
DTSTART;TZID=Europe/Paris:20250620T143000
DTEND;TZID=Europe/Paris:20250620T163000
DTSTAMP:20260421T111529
CREATED:20250603T090301Z
LAST-MODIFIED:20250603T090301Z
UID:8900-1750429800-1750437000@letempsduncafebalma.fr
SUMMARY:Café parole: La tolérance: est ce que je peux ou dois tout tolérer?
DESCRIPTION:Nous organisons régulièrement des cafés paroles\, ouverts à tous. Chacun est libre de venir et d’échanger avec le groupe sur un sujet choisi la séance précédente. Personne n’est obligé de parler\, vous pouvez simplement venir écouter. Tout se passe dans une ambiance bienveillante\, sans jugement. \n 
URL:https://letempsduncafebalma.fr/evenement/cafe-parole-la-tolerance-est-ce-que-je-peux-ou-dois-tout-tolerer/
LOCATION:Local\, Le temps d’un café\, 13 bis avenue Pierre Coupeau\, Balma\, 31130\, France
CATEGORIES:Café Parole
ATTACH;FMTTYPE=image/jpeg:https://letempsduncafebalma.fr/wp-content/uploads/coffee-2151200_1280.jpg
END:VEVENT
END:VCALENDAR