BEGIN:VCALENDAR
VERSION:2.0
PRODID:-//Le Temps d&#039;un Café - ECPv6.15.20//NONSGML v1.0//EN
CALSCALE:GREGORIAN
METHOD:PUBLISH
X-WR-CALNAME:Le Temps d&#039;un Café
X-ORIGINAL-URL:https://letempsduncafebalma.fr
X-WR-CALDESC:Évènements pour Le Temps d&#039;un Café
REFRESH-INTERVAL;VALUE=DURATION:PT1H
X-Robots-Tag:noindex
X-PUBLISHED-TTL:PT1H
BEGIN:VTIMEZONE
TZID:Europe/Paris
BEGIN:DAYLIGHT
TZOFFSETFROM:+0100
TZOFFSETTO:+0200
TZNAME:CEST
DTSTART:20240331T010000
END:DAYLIGHT
BEGIN:STANDARD
TZOFFSETFROM:+0200
TZOFFSETTO:+0100
TZNAME:CET
DTSTART:20241027T010000
END:STANDARD
BEGIN:DAYLIGHT
TZOFFSETFROM:+0100
TZOFFSETTO:+0200
TZNAME:CEST
DTSTART:20250330T010000
END:DAYLIGHT
BEGIN:STANDARD
TZOFFSETFROM:+0200
TZOFFSETTO:+0100
TZNAME:CET
DTSTART:20251026T010000
END:STANDARD
BEGIN:DAYLIGHT
TZOFFSETFROM:+0100
TZOFFSETTO:+0200
TZNAME:CEST
DTSTART:20260329T010000
END:DAYLIGHT
BEGIN:STANDARD
TZOFFSETFROM:+0200
TZOFFSETTO:+0100
TZNAME:CET
DTSTART:20261025T010000
END:STANDARD
END:VTIMEZONE
BEGIN:VEVENT
DTSTART;TZID=Europe/Paris:20250522T073000
DTEND;TZID=Europe/Paris:20250522T190000
DTSTAMP:20260422T165249
CREATED:20250129T151644Z
LAST-MODIFIED:20250129T151644Z
UID:8481-1747899000-1747940400@letempsduncafebalma.fr
SUMMARY:Sortie à Auch
DESCRIPTION:Nous organisons une journée complète à Auch le 22 Mai\, avec au programme: \n\nPromenade dans la ville le matin\, avec guide\nRepas gascon dans un restaurant traditionnel\nVisite de l’asinerie de la Ferme des Hittons\n\nTarif estimé: 60 à 65 euros par personne  selon le nombre de participant \nS’inscrire au local\, place limitée (les inscriptions seront disponibles plusieurs semaines avant) \n  \nDépart prévu à 7h30\, retour vers 17h
URL:https://letempsduncafebalma.fr/evenement/sortie-a-auch/
CATEGORIES:Rencontre,Sortie
ATTACH;FMTTYPE=image/jpeg:https://letempsduncafebalma.fr/wp-content/uploads/pexels-photo-18978360-18978360-scaled.jpg
END:VEVENT
END:VCALENDAR