BEGIN:VCALENDAR
VERSION:2.0
PRODID:-//Le Temps d&#039;un Café - ECPv6.15.20//NONSGML v1.0//EN
CALSCALE:GREGORIAN
METHOD:PUBLISH
X-WR-CALNAME:Le Temps d&#039;un Café
X-ORIGINAL-URL:https://letempsduncafebalma.fr
X-WR-CALDESC:Évènements pour Le Temps d&#039;un Café
REFRESH-INTERVAL;VALUE=DURATION:PT1H
X-Robots-Tag:noindex
X-PUBLISHED-TTL:PT1H
BEGIN:VTIMEZONE
TZID:Europe/Paris
BEGIN:DAYLIGHT
TZOFFSETFROM:+0100
TZOFFSETTO:+0200
TZNAME:CEST
DTSTART:20240331T010000
END:DAYLIGHT
BEGIN:STANDARD
TZOFFSETFROM:+0200
TZOFFSETTO:+0100
TZNAME:CET
DTSTART:20241027T010000
END:STANDARD
BEGIN:DAYLIGHT
TZOFFSETFROM:+0100
TZOFFSETTO:+0200
TZNAME:CEST
DTSTART:20250330T010000
END:DAYLIGHT
BEGIN:STANDARD
TZOFFSETFROM:+0200
TZOFFSETTO:+0100
TZNAME:CET
DTSTART:20251026T010000
END:STANDARD
BEGIN:DAYLIGHT
TZOFFSETFROM:+0100
TZOFFSETTO:+0200
TZNAME:CEST
DTSTART:20260329T010000
END:DAYLIGHT
BEGIN:STANDARD
TZOFFSETFROM:+0200
TZOFFSETTO:+0100
TZNAME:CET
DTSTART:20261025T010000
END:STANDARD
END:VTIMEZONE
BEGIN:VEVENT
DTSTART;TZID=Europe/Paris:20250518T120000
DTEND;TZID=Europe/Paris:20250518T143000
DTSTAMP:20260422T165248
CREATED:20250430T095239Z
LAST-MODIFIED:20250430T095239Z
UID:8789-1747569600-1747578600@letempsduncafebalma.fr
SUMMARY:Restaurant du dimanche (sur inscription)
DESCRIPTION:Repas au restaurant « Le Samouraï »  S’inscrire au local auprès de Maryvonne Hautefeuille
URL:https://letempsduncafebalma.fr/evenement/restaurant-du-dimanche-sur-inscription/
CATEGORIES:Rencontre,Repas
ATTACH;FMTTYPE=image/jpeg:https://letempsduncafebalma.fr/wp-content/uploads/pexels-photo-67468-67468-scaled.jpg
END:VEVENT
END:VCALENDAR