BEGIN:VCALENDAR
VERSION:2.0
PRODID:-//Le Temps d&#039;un Café - ECPv6.15.20//NONSGML v1.0//EN
CALSCALE:GREGORIAN
METHOD:PUBLISH
X-ORIGINAL-URL:https://letempsduncafebalma.fr
X-WR-CALDESC:Évènements pour Le Temps d&#039;un Café
REFRESH-INTERVAL;VALUE=DURATION:PT1H
X-Robots-Tag:noindex
X-PUBLISHED-TTL:PT1H
BEGIN:VTIMEZONE
TZID:Europe/Paris
BEGIN:DAYLIGHT
TZOFFSETFROM:+0100
TZOFFSETTO:+0200
TZNAME:CEST
DTSTART:20240331T010000
END:DAYLIGHT
BEGIN:STANDARD
TZOFFSETFROM:+0200
TZOFFSETTO:+0100
TZNAME:CET
DTSTART:20241027T010000
END:STANDARD
BEGIN:DAYLIGHT
TZOFFSETFROM:+0100
TZOFFSETTO:+0200
TZNAME:CEST
DTSTART:20250330T010000
END:DAYLIGHT
BEGIN:STANDARD
TZOFFSETFROM:+0200
TZOFFSETTO:+0100
TZNAME:CET
DTSTART:20251026T010000
END:STANDARD
BEGIN:DAYLIGHT
TZOFFSETFROM:+0100
TZOFFSETTO:+0200
TZNAME:CEST
DTSTART:20260329T010000
END:DAYLIGHT
BEGIN:STANDARD
TZOFFSETFROM:+0200
TZOFFSETTO:+0100
TZNAME:CET
DTSTART:20261025T010000
END:STANDARD
END:VTIMEZONE
BEGIN:VEVENT
DTSTART;TZID=Europe/Paris:20250506T160000
DTEND;TZID=Europe/Paris:20250506T173000
DTSTAMP:20260422T153410
CREATED:20250325T103415Z
LAST-MODIFIED:20250325T103415Z
UID:8649-1746547200-1746552600@letempsduncafebalma.fr
SUMMARY:Conférence: Les arnaques en ligne
DESCRIPTION:Atelier-Rencontre autour du Thème Et si on communiquait\, avec un sujet important: Les arnaques en ligne \nNous aborderons les sujets suivants: \n\nCommander en tout sécurité en ligne\nRepérer les arnaques par mail/sms\nComment se protéger?\nComment réagir ?\nLes arnaques actuelles\n\nL’atelier-rencontre est accessible à tous\, même aux débutants. Il est également lieu d’échange et d’interrogations. 
URL:https://letempsduncafebalma.fr/evenement/conference-les-arnaques-en-ligne/
LOCATION:Local\, Le temps d’un café\, 13 bis avenue Pierre Coupeau\, Balma\, 31130\, France
CATEGORIES:Atelier,Rencontre
ATTACH;FMTTYPE=image/png:https://letempsduncafebalma.fr/wp-content/uploads/1-2.png
END:VEVENT
BEGIN:VEVENT
DTSTART;TZID=Europe/Paris:20250507T090000
DTEND;TZID=Europe/Paris:20250507T100000
DTSTAMP:20260422T153410
CREATED:20250430T094035Z
LAST-MODIFIED:20250430T094035Z
UID:8772-1746608400-1746612000@letempsduncafebalma.fr
SUMMARY:Marche (dynamique)
DESCRIPTION:Rendez vous le mercredi route de Mons\, sur le parking de l’école Marie Laurencin ( en face de Carrefour City) \nNous marcherons en groupe pendant une heure à une heure à une heure et quart\, à un rythme dynamique. Ensuite\, nous rentrerons au local prendre une boisson chaude ou fraîche\, selon le temps.  \nDépart à 9h.
URL:https://letempsduncafebalma.fr/evenement/marche-dynamique/
LOCATION:Parking Carrefour City\, 11 Route de Mons\, Balma\, 31130\, France
CATEGORIES:Marche,Rencontre
ATTACH;FMTTYPE=image/jpeg:https://letempsduncafebalma.fr/wp-content/uploads/nature-conservation-4352793_1280.jpg
END:VEVENT
BEGIN:VEVENT
DTSTART;TZID=Europe/Paris:20250512T143000
DTEND;TZID=Europe/Paris:20250512T170000
DTSTAMP:20260422T153410
CREATED:20250325T102442Z
LAST-MODIFIED:20250401T185009Z
UID:8636-1747060200-1747069200@letempsduncafebalma.fr
SUMMARY:Cinéma Cercle de lecture: Les yeux de Mona
DESCRIPTION:Le cercle de lecture vous propose une séance de projection du Film Les yeux de Mona\, . Il s’agit de l’adaptation de son roman Les yeux de Mona\, publié en 2024.
URL:https://letempsduncafebalma.fr/evenement/cinema-cercle-de-lecture-les-yeux-de-mona/
LOCATION:Local\, Le temps d’un café\, 13 bis avenue Pierre Coupeau\, Balma\, 31130\, France
CATEGORIES:Cercle de lecture,Ciné-débat,Rencontre
ATTACH;FMTTYPE=image/jpeg:https://letempsduncafebalma.fr/wp-content/uploads/les-yeux-de-Mona.jpeg
END:VEVENT
BEGIN:VEVENT
DTSTART;TZID=Europe/Paris:20250514T090000
DTEND;TZID=Europe/Paris:20250514T100000
DTSTAMP:20260422T153410
CREATED:20250430T094202Z
LAST-MODIFIED:20250430T094202Z
UID:8774-1747213200-1747216800@letempsduncafebalma.fr
SUMMARY:Marche (dynamique)
DESCRIPTION:Rendez vous le mercredi route de Mons\, sur le parking de l’école Marie Laurencin ( en face de Carrefour City) \nNous marcherons en groupe pendant une heure à une heure à une heure et quart\, à un rythme dynamique. Ensuite\, nous rentrerons au local prendre une boisson chaude ou fraîche\, selon le temps.  \nDépart à 9h.
URL:https://letempsduncafebalma.fr/evenement/marche-dynamique-35/
LOCATION:Parking Carrefour City\, 11 Route de Mons\, Balma\, 31130\, France
CATEGORIES:Marche,Rencontre
ATTACH;FMTTYPE=image/jpeg:https://letempsduncafebalma.fr/wp-content/uploads/nature-conservation-4352793_1280.jpg
END:VEVENT
BEGIN:VEVENT
DTSTART;TZID=Europe/Paris:20250515T090000
DTEND;TZID=Europe/Paris:20250515T123000
DTSTAMP:20260422T153410
CREATED:20250325T103205Z
LAST-MODIFIED:20250325T103205Z
UID:8647-1747299600-1747312200@letempsduncafebalma.fr
SUMMARY:Atelier numérique pratique (sur inscription)
DESCRIPTION:Sur inscription au local (6 places par session)  ou par mail gwenaelle.guillon.gg@gmail.com \nGwénaëlle vous propose un rendez vous pour un atelier pratique en petit groupe\, pour vous aider ou vous apprendre à vous servir du numérique (téléphone portable\, ordinateur\, tablette). \nVous devez apporter votre matériel. \n 
URL:https://letempsduncafebalma.fr/evenement/atelier-numerique-pratique-sur-inscription-5/
LOCATION:Local\, Le temps d’un café\, 13 bis avenue Pierre Coupeau\, Balma\, 31130\, France
CATEGORIES:Atelier,Rencontre
ATTACH;FMTTYPE=image/png:https://letempsduncafebalma.fr/wp-content/uploads/Design-sans-titre-1.png
END:VEVENT
BEGIN:VEVENT
DTSTART;TZID=Europe/Paris:20250516T143000
DTEND;TZID=Europe/Paris:20250516T170000
DTSTAMP:20260422T153410
CREATED:20250430T095011Z
LAST-MODIFIED:20250430T095011Z
UID:8784-1747405800-1747414800@letempsduncafebalma.fr
SUMMARY:Ciné-débat
DESCRIPTION:Et la vie continue
URL:https://letempsduncafebalma.fr/evenement/cine-debat-5/
LOCATION:Local\, Le temps d’un café\, 13 bis avenue Pierre Coupeau\, Balma\, 31130\, France
CATEGORIES:Ciné-débat,Rencontre
ATTACH;FMTTYPE=image/webp:https://letempsduncafebalma.fr/wp-content/uploads/et-la-vie-continue.webp
END:VEVENT
BEGIN:VEVENT
DTSTART;TZID=Europe/Paris:20250518T120000
DTEND;TZID=Europe/Paris:20250518T143000
DTSTAMP:20260422T153411
CREATED:20250430T095239Z
LAST-MODIFIED:20250430T095239Z
UID:8789-1747569600-1747578600@letempsduncafebalma.fr
SUMMARY:Restaurant du dimanche (sur inscription)
DESCRIPTION:Repas au restaurant « Le Samouraï »  S’inscrire au local auprès de Maryvonne Hautefeuille
URL:https://letempsduncafebalma.fr/evenement/restaurant-du-dimanche-sur-inscription/
CATEGORIES:Rencontre,Repas
ATTACH;FMTTYPE=image/jpeg:https://letempsduncafebalma.fr/wp-content/uploads/pexels-photo-67468-67468-scaled.jpg
END:VEVENT
BEGIN:VEVENT
DTSTART;TZID=Europe/Paris:20250520T180000
DTEND;TZID=Europe/Paris:20250520T193000
DTSTAMP:20260422T153411
CREATED:20250325T102945Z
LAST-MODIFIED:20250325T102945Z
UID:8641-1747764000-1747769400@letempsduncafebalma.fr
SUMMARY:Apéro partagé
DESCRIPTION:Venez partager un moment convivial avec nous\, pour un apéro au local.  \nNous organisons cet apéro tous les mois\, chaque troisième Mardi du mois.  \nIl suffit d’apporter de quoi grignoter ou siroter. 
URL:https://letempsduncafebalma.fr/evenement/apero-partage-7/
LOCATION:Local\, Le temps d’un café\, 13 bis avenue Pierre Coupeau\, Balma\, 31130\, France
CATEGORIES:Rencontre,Repas
ATTACH;FMTTYPE=image/jpeg:https://letempsduncafebalma.fr/wp-content/uploads/cake-sale-1566262_1280.jpg
END:VEVENT
BEGIN:VEVENT
DTSTART;TZID=Europe/Paris:20250521T090000
DTEND;TZID=Europe/Paris:20250521T100000
DTSTAMP:20260422T153411
CREATED:20250430T094245Z
LAST-MODIFIED:20250430T094245Z
UID:8776-1747818000-1747821600@letempsduncafebalma.fr
SUMMARY:Marche (dynamique)
DESCRIPTION:Rendez vous le mercredi route de Mons\, sur le parking de l’école Marie Laurencin ( en face de Carrefour City) \nNous marcherons en groupe pendant une heure à une heure à une heure et quart\, à un rythme dynamique. Ensuite\, nous rentrerons au local prendre une boisson chaude ou fraîche\, selon le temps.  \nDépart à 9h.
URL:https://letempsduncafebalma.fr/evenement/marche-dynamique-36/
LOCATION:Parking Carrefour City\, 11 Route de Mons\, Balma\, 31130\, France
CATEGORIES:Marche,Rencontre
ATTACH;FMTTYPE=image/jpeg:https://letempsduncafebalma.fr/wp-content/uploads/nature-conservation-4352793_1280.jpg
END:VEVENT
BEGIN:VEVENT
DTSTART;TZID=Europe/Paris:20250522T073000
DTEND;TZID=Europe/Paris:20250522T190000
DTSTAMP:20260422T153411
CREATED:20250129T151644Z
LAST-MODIFIED:20250129T151644Z
UID:8481-1747899000-1747940400@letempsduncafebalma.fr
SUMMARY:Sortie à Auch
DESCRIPTION:Nous organisons une journée complète à Auch le 22 Mai\, avec au programme: \n\nPromenade dans la ville le matin\, avec guide\nRepas gascon dans un restaurant traditionnel\nVisite de l’asinerie de la Ferme des Hittons\n\nTarif estimé: 60 à 65 euros par personne  selon le nombre de participant \nS’inscrire au local\, place limitée (les inscriptions seront disponibles plusieurs semaines avant) \n  \nDépart prévu à 7h30\, retour vers 17h
URL:https://letempsduncafebalma.fr/evenement/sortie-a-auch/
CATEGORIES:Rencontre,Sortie
ATTACH;FMTTYPE=image/jpeg:https://letempsduncafebalma.fr/wp-content/uploads/pexels-photo-18978360-18978360-scaled.jpg
END:VEVENT
BEGIN:VEVENT
DTSTART;TZID=Europe/Paris:20250523T143000
DTEND;TZID=Europe/Paris:20250523T163000
DTSTAMP:20260422T153411
CREATED:20250430T095609Z
LAST-MODIFIED:20250430T095609Z
UID:8794-1748010600-1748017800@letempsduncafebalma.fr
SUMMARY:Café parole: Mensonge et vérité
DESCRIPTION:Nous organisons régulièrement des cafés paroles\, ouverts à tous. Chacun est libre de venir et d’échanger avec le groupe sur un sujet choisi la séance précédente. Personne n’est obligé de parler\, vous pouvez simplement venir écouter. Tout se passe dans une ambiance bienveillante\, sans jugement. \n 
URL:https://letempsduncafebalma.fr/evenement/cafe-parole-mensonge-et-verite/
LOCATION:Local\, Le temps d’un café\, 13 bis avenue Pierre Coupeau\, Balma\, 31130\, France
CATEGORIES:Café Parole
ATTACH;FMTTYPE=image/jpeg:https://letempsduncafebalma.fr/wp-content/uploads/coffee-2151200_1280.jpg
END:VEVENT
BEGIN:VEVENT
DTSTART;TZID=Europe/Paris:20250528T090000
DTEND;TZID=Europe/Paris:20250528T100000
DTSTAMP:20260422T153411
CREATED:20250430T094350Z
LAST-MODIFIED:20250430T094350Z
UID:8778-1748422800-1748426400@letempsduncafebalma.fr
SUMMARY:Marche (dynamique)
DESCRIPTION:Rendez vous le mercredi route de Mons\, sur le parking de l’école Marie Laurencin ( en face de Carrefour City) \nNous marcherons en groupe pendant une heure à une heure à une heure et quart\, à un rythme dynamique. Ensuite\, nous rentrerons au local prendre une boisson chaude ou fraîche\, selon le temps.  \nDépart à 9h.
URL:https://letempsduncafebalma.fr/evenement/marche-dynamique-37/
LOCATION:Parking Carrefour City\, 11 Route de Mons\, Balma\, 31130\, France
CATEGORIES:Marche,Rencontre
ATTACH;FMTTYPE=image/jpeg:https://letempsduncafebalma.fr/wp-content/uploads/nature-conservation-4352793_1280.jpg
END:VEVENT
END:VCALENDAR