BEGIN:VCALENDAR
VERSION:2.0
PRODID:-//Le Temps d&#039;un Café - ECPv6.15.20//NONSGML v1.0//EN
CALSCALE:GREGORIAN
METHOD:PUBLISH
X-WR-CALNAME:Le Temps d&#039;un Café
X-ORIGINAL-URL:https://letempsduncafebalma.fr
X-WR-CALDESC:Évènements pour Le Temps d&#039;un Café
REFRESH-INTERVAL;VALUE=DURATION:PT1H
X-Robots-Tag:noindex
X-PUBLISHED-TTL:PT1H
BEGIN:VTIMEZONE
TZID:Europe/Paris
BEGIN:DAYLIGHT
TZOFFSETFROM:+0100
TZOFFSETTO:+0200
TZNAME:CEST
DTSTART:20250330T010000
END:DAYLIGHT
BEGIN:STANDARD
TZOFFSETFROM:+0200
TZOFFSETTO:+0100
TZNAME:CET
DTSTART:20251026T010000
END:STANDARD
BEGIN:DAYLIGHT
TZOFFSETFROM:+0100
TZOFFSETTO:+0200
TZNAME:CEST
DTSTART:20260329T010000
END:DAYLIGHT
BEGIN:STANDARD
TZOFFSETFROM:+0200
TZOFFSETTO:+0100
TZNAME:CET
DTSTART:20261025T010000
END:STANDARD
BEGIN:DAYLIGHT
TZOFFSETFROM:+0100
TZOFFSETTO:+0200
TZNAME:CEST
DTSTART:20270328T010000
END:DAYLIGHT
BEGIN:STANDARD
TZOFFSETFROM:+0200
TZOFFSETTO:+0100
TZNAME:CET
DTSTART:20271031T010000
END:STANDARD
END:VTIMEZONE
BEGIN:VTIMEZONE
TZID:Europe/Paris
BEGIN:DAYLIGHT
TZOFFSETFROM:+0100
TZOFFSETTO:+0200
TZNAME:CEST
DTSTART:20250330T010000
END:DAYLIGHT
BEGIN:STANDARD
TZOFFSETFROM:+0200
TZOFFSETTO:+0100
TZNAME:CET
DTSTART:20251026T010000
END:STANDARD
BEGIN:DAYLIGHT
TZOFFSETFROM:+0100
TZOFFSETTO:+0200
TZNAME:CEST
DTSTART:20260329T010000
END:DAYLIGHT
BEGIN:STANDARD
TZOFFSETFROM:+0200
TZOFFSETTO:+0100
TZNAME:CET
DTSTART:20261025T010000
END:STANDARD
BEGIN:DAYLIGHT
TZOFFSETFROM:+0100
TZOFFSETTO:+0200
TZNAME:CEST
DTSTART:20270328T010000
END:DAYLIGHT
BEGIN:STANDARD
TZOFFSETFROM:+0200
TZOFFSETTO:+0100
TZNAME:CET
DTSTART:20271031T010000
END:STANDARD
END:VTIMEZONE
BEGIN:VEVENT
DTSTART;TZID=Europe/Paris:20260427T143000
DTEND;TZID=Europe/Paris:20260427T160000
DTSTAMP:20260425T142342
CREATED:20260420T082414Z
LAST-MODIFIED:20260420T082414Z
UID:10016-1777300200-1777305600@letempsduncafebalma.fr
SUMMARY:Promenade
DESCRIPTION:Rendez vous tous les Lundis après midi\, sur le parking de l’école Marie Laurencin\, coté carrefour city (route de Mons)\, pour une promenade à un rythme accessible à tous\, menée par Bernadette
URL:https://letempsduncafebalma.fr/evenement/promenade-19/
LOCATION:Parking école Marie Laurencin\, route de Mons\, Balma\, 31130
CATEGORIES:Marche,Rencontre
ATTACH;FMTTYPE=image/jpeg:https://letempsduncafebalma.fr/wp-content/uploads/nature-conservation-4352793_1280.jpg
END:VEVENT
BEGIN:VEVENT
DTSTART;TZID=Europe/Paris:20260429T090000
DTEND;TZID=Europe/Paris:20260429T100000
DTSTAMP:20260425T142342
CREATED:20260324T134011Z
LAST-MODIFIED:20260324T134011Z
UID:9838-1777453200-1777456800@letempsduncafebalma.fr
SUMMARY:Marche (dynamique)
DESCRIPTION:Rendez vous le mercredi route de Mons\, sur le parking de l’école Marie Laurencin ( en face de Carrefour City) \nNous marcherons en groupe pendant une heure à une heure à une heure et quart\, à un rythme dynamique. Ensuite\, nous rentrerons au local prendre une boisson chaude ou fraîche\, selon le temps.  \nDépart à 9h.
URL:https://letempsduncafebalma.fr/evenement/marche-dynamique-28/
LOCATION:Parking Carrefour City\, 11 Route de Mons\, Balma\, 31130\, France
CATEGORIES:Marche,Rencontre
ATTACH;FMTTYPE=image/jpeg:https://letempsduncafebalma.fr/wp-content/uploads/nature-conservation-4352793_1280.jpg
END:VEVENT
BEGIN:VEVENT
DTSTART;TZID=Europe/Paris:20260504T143000
DTEND;TZID=Europe/Paris:20260504T160000
DTSTAMP:20260425T142342
CREATED:20260324T134415Z
LAST-MODIFIED:20260324T134415Z
UID:9858-1777905000-1777910400@letempsduncafebalma.fr
SUMMARY:Promenade
DESCRIPTION:Rendez vous tous les Lundis après midi\, sur le parking de l’école Marie Laurencin\, coté carrefour city (route de Mons)\, pour une promenade à un rythme accessible à tous\, menée par Bernadette
URL:https://letempsduncafebalma.fr/evenement/promenade-17/
LOCATION:Parking école Marie Laurencin\, route de Mons\, Balma\, 31130
CATEGORIES:Marche,Rencontre
ATTACH;FMTTYPE=image/jpeg:https://letempsduncafebalma.fr/wp-content/uploads/nature-conservation-4352793_1280.jpg
END:VEVENT
BEGIN:VEVENT
DTSTART;TZID=Europe/Paris:20260505T173000
DTEND;TZID=Europe/Paris:20260505T200000
DTSTAMP:20260425T142342
CREATED:20260418T095305Z
LAST-MODIFIED:20260418T095305Z
UID:9963-1778002200-1778011200@letempsduncafebalma.fr
SUMMARY:Conversation amicale autour d'un verre: Le soleil\, un ami?
DESCRIPTION:Chaque Mardi soir*\, de 18h à 20h\, au local\, Josette propose de nous retrouver autour d’un verre pour discuter de sujet d’actualité\, personnels ou encore sociétaux. Chaque semaine\, un nouveau thème sera proposé.  \n  \n*Excepté le 3 ème mardi du mois en raison de l’apéro partagé \n 
URL:https://letempsduncafebalma.fr/evenement/conversation-amicale-autour-dun-verre-le-soleil-un-ami/
CATEGORIES:Rencontre
ATTACH;FMTTYPE=image/jpeg:https://letempsduncafebalma.fr/wp-content/uploads/pexels-photo-8375042-8375042-scaled.jpg
END:VEVENT
BEGIN:VEVENT
DTSTART;TZID=Europe/Paris:20260506T090000
DTEND;TZID=Europe/Paris:20260506T100000
DTSTAMP:20260425T142342
CREATED:20260324T134032Z
LAST-MODIFIED:20260324T134032Z
UID:9840-1778058000-1778061600@letempsduncafebalma.fr
SUMMARY:Marche (dynamique)
DESCRIPTION:Rendez vous le mercredi route de Mons\, sur le parking de l’école Marie Laurencin ( en face de Carrefour City) \nNous marcherons en groupe pendant une heure à une heure à une heure et quart\, à un rythme dynamique. Ensuite\, nous rentrerons au local prendre une boisson chaude ou fraîche\, selon le temps.  \nDépart à 9h.
URL:https://letempsduncafebalma.fr/evenement/marche-dynamique-29/
LOCATION:Parking Carrefour City\, 11 Route de Mons\, Balma\, 31130\, France
CATEGORIES:Marche,Rencontre
ATTACH;FMTTYPE=image/jpeg:https://letempsduncafebalma.fr/wp-content/uploads/nature-conservation-4352793_1280.jpg
END:VEVENT
BEGIN:VEVENT
DTSTART;TZID=Europe/Paris:20260507T090000
DTEND;TZID=Europe/Paris:20260507T103000
DTSTAMP:20260425T142342
CREATED:20260418T095449Z
LAST-MODIFIED:20260418T095449Z
UID:9969-1778144400-1778149800@letempsduncafebalma.fr
SUMMARY:Atelier d'écriture
DESCRIPTION:Un atelier animé par Jean Noël\, pour développer votre plume et votre imagination. \nOuvert à tous. 
URL:https://letempsduncafebalma.fr/evenement/atelier-decriture-13/
LOCATION:Local\, Le temps d’un café\, 13 bis avenue Pierre Coupeau\, Balma\, 31130\, France
CATEGORIES:Ecriture
ATTACH;FMTTYPE=image/jpeg:https://letempsduncafebalma.fr/wp-content/uploads/writing-923882_1280.jpg
END:VEVENT
BEGIN:VEVENT
DTSTART;TZID=Europe/Paris:20260507T143000
DTEND;TZID=Europe/Paris:20260507T153000
DTSTAMP:20260425T142342
CREATED:20260324T134239Z
LAST-MODIFIED:20260324T134239Z
UID:9850-1778164200-1778167800@letempsduncafebalma.fr
SUMMARY:Marche intermédiaire
DESCRIPTION:Rendez vous tous les Jeudi après midi\, sur le parking de l’école Marie Laurencin\, coté carrefour city (route de Mons)\, pour une promenade à un rythme accessible à tous\, menée par Martine
URL:https://letempsduncafebalma.fr/evenement/marche-intermediaire-16/
LOCATION:Parking école Marie Laurencin\, route de Mons\, Balma\, 31130
CATEGORIES:Marche,Rencontre
ATTACH;FMTTYPE=image/jpeg:https://letempsduncafebalma.fr/wp-content/uploads/nature-conservation-4352793_1280.jpg
END:VEVENT
BEGIN:VEVENT
DTSTART;TZID=Europe/Paris:20260511T143000
DTEND;TZID=Europe/Paris:20260511T170000
DTSTAMP:20260425T142342
CREATED:20260418T095856Z
LAST-MODIFIED:20260418T095856Z
UID:9973-1778509800-1778518800@letempsduncafebalma.fr
SUMMARY:Projection Cercle de lecture: Jouer avec le feu
DESCRIPTION:Le cercle de lecture vous propose une séance de projection de Jouer avec le feu\, Tiré du livre Ce qu’il faut de nuit\, \nsélection du Cercle de lecture 2021-2022 \n 
URL:https://letempsduncafebalma.fr/evenement/projection-cercle-de-lecture-jouer-avec-le-feu/
LOCATION:Local\, Le temps d’un café\, 13 bis avenue Pierre Coupeau\, Balma\, 31130\, France
CATEGORIES:Cercle de lecture,Ciné-débat,Rencontre
ATTACH;FMTTYPE=image/jpeg:https://letempsduncafebalma.fr/wp-content/uploads/jouer-avec-le-feu.jpg
END:VEVENT
BEGIN:VEVENT
DTSTART;TZID=Europe/Paris:20260512T173000
DTEND;TZID=Europe/Paris:20260512T200000
DTSTAMP:20260425T142342
CREATED:20260418T095346Z
LAST-MODIFIED:20260418T095346Z
UID:9965-1778607000-1778616000@letempsduncafebalma.fr
SUMMARY:Conversation amicale autour d'un verre: Prendre soin de sa peau
DESCRIPTION:Chaque Mardi soir*\, de 18h à 20h\, au local\, Josette propose de nous retrouver autour d’un verre pour discuter de sujet d’actualité\, personnels ou encore sociétaux. Chaque semaine\, un nouveau thème sera proposé.  \n  \n*Excepté le 3 ème mardi du mois en raison de l’apéro partagé \n 
URL:https://letempsduncafebalma.fr/evenement/conversation-amicale-autour-dun-verre-prendre-soin-de-sa-peau/
CATEGORIES:Rencontre
ATTACH;FMTTYPE=image/jpeg:https://letempsduncafebalma.fr/wp-content/uploads/pexels-photo-8375042-8375042-scaled.jpg
END:VEVENT
BEGIN:VEVENT
DTSTART;TZID=Europe/Paris:20260513T090000
DTEND;TZID=Europe/Paris:20260513T100000
DTSTAMP:20260425T142342
CREATED:20260418T100642Z
LAST-MODIFIED:20260418T100642Z
UID:9988-1778662800-1778666400@letempsduncafebalma.fr
SUMMARY:Marche (dynamique)
DESCRIPTION:Rendez vous le mercredi route de Mons\, sur le parking de l’école Marie Laurencin ( en face de Carrefour City) \nNous marcherons en groupe pendant une heure à une heure à une heure et quart\, à un rythme dynamique. Ensuite\, nous rentrerons au local prendre une boisson chaude ou fraîche\, selon le temps.  \nDépart à 9h.
URL:https://letempsduncafebalma.fr/evenement/marche-dynamique-30/
LOCATION:Parking Carrefour City\, 11 Route de Mons\, Balma\, 31130\, France
CATEGORIES:Marche,Rencontre
ATTACH;FMTTYPE=image/jpeg:https://letempsduncafebalma.fr/wp-content/uploads/nature-conservation-4352793_1280.jpg
END:VEVENT
BEGIN:VEVENT
DTSTART;TZID=Europe/Paris:20260513T103000
DTEND;TZID=Europe/Paris:20260513T120000
DTSTAMP:20260425T142342
CREATED:20260418T095932Z
LAST-MODIFIED:20260418T095932Z
UID:9977-1778668200-1778673600@letempsduncafebalma.fr
SUMMARY:Conversation Italienne
DESCRIPTION:Venez vous essayer à l’italien ou approfondir vos connaissance\, avec le groupe d’italien
URL:https://letempsduncafebalma.fr/evenement/conversation-italienne-13/
LOCATION:Local\, Le temps d’un café\, 13 bis avenue Pierre Coupeau\, Balma\, 31130\, France
CATEGORIES:Italien,Langues
ATTACH;FMTTYPE=image/jpeg:https://letempsduncafebalma.fr/wp-content/uploads/houses-1622066_1280.jpg
END:VEVENT
BEGIN:VEVENT
DTSTART;TZID=Europe/Paris:20260519T163000
DTEND;TZID=Europe/Paris:20260519T163000
DTSTAMP:20260425T142342
CREATED:20260418T100357Z
LAST-MODIFIED:20260418T100357Z
UID:9984-1779208200-1779208200@letempsduncafebalma.fr
SUMMARY:Théâtre: « Conscience contre violence »
DESCRIPTION:Spectacle de théâtre avec son et lumière \nAu local du temps d’un café \nSuivi de l’apéritif\, pensez à apporter des petites choses à grignoter
URL:https://letempsduncafebalma.fr/evenement/theatre-conscience-contre-violence/
LOCATION:Local\, Le temps d’un café\, 13 bis avenue Pierre Coupeau\, Balma\, 31130\, France
CATEGORIES:Art
ATTACH;FMTTYPE=image/jpeg:https://letempsduncafebalma.fr/wp-content/uploads/gd70f9e240fe9428b621b0cec64a46ac24f15f61c26a0bbc2c1685e3ab79a779c49dc1138d1486b6c21b560b452bcdf0887b115138acfd1b9bf3f60f3c6918e69_1280-6201325.jpg
END:VEVENT
BEGIN:VEVENT
DTSTART;TZID=Europe/Paris:20260520T090000
DTEND;TZID=Europe/Paris:20260520T100000
DTSTAMP:20260425T142342
CREATED:20260418T100701Z
LAST-MODIFIED:20260418T100701Z
UID:9990-1779267600-1779271200@letempsduncafebalma.fr
SUMMARY:Marche (dynamique)
DESCRIPTION:Rendez vous le mercredi route de Mons\, sur le parking de l’école Marie Laurencin ( en face de Carrefour City) \nNous marcherons en groupe pendant une heure à une heure à une heure et quart\, à un rythme dynamique. Ensuite\, nous rentrerons au local prendre une boisson chaude ou fraîche\, selon le temps.  \nDépart à 9h.
URL:https://letempsduncafebalma.fr/evenement/marche-dynamique-31/
LOCATION:Parking Carrefour City\, 11 Route de Mons\, Balma\, 31130\, France
CATEGORIES:Marche,Rencontre
ATTACH;FMTTYPE=image/jpeg:https://letempsduncafebalma.fr/wp-content/uploads/nature-conservation-4352793_1280.jpg
END:VEVENT
BEGIN:VEVENT
DTSTART;TZID=Europe/Paris:20260520T103000
DTEND;TZID=Europe/Paris:20260520T120000
DTSTAMP:20260425T142342
CREATED:20260418T095952Z
LAST-MODIFIED:20260418T095952Z
UID:9979-1779273000-1779278400@letempsduncafebalma.fr
SUMMARY:Conversation Italienne
DESCRIPTION:Venez vous essayer à l’italien ou approfondir vos connaissance\, avec le groupe d’italien
URL:https://letempsduncafebalma.fr/evenement/conversation-italienne-14/
LOCATION:Local\, Le temps d’un café\, 13 bis avenue Pierre Coupeau\, Balma\, 31130\, France
CATEGORIES:Italien,Langues
ATTACH;FMTTYPE=image/jpeg:https://letempsduncafebalma.fr/wp-content/uploads/houses-1622066_1280.jpg
END:VEVENT
BEGIN:VEVENT
DTSTART;TZID=Europe/Paris:20260521T090000
DTEND;TZID=Europe/Paris:20260521T103000
DTSTAMP:20260425T142342
CREATED:20260418T095508Z
LAST-MODIFIED:20260418T095508Z
UID:9971-1779354000-1779359400@letempsduncafebalma.fr
SUMMARY:Atelier d'écriture
DESCRIPTION:Un atelier animé par Jean Noël\, pour développer votre plume et votre imagination. \nOuvert à tous. 
URL:https://letempsduncafebalma.fr/evenement/atelier-decriture-14/
LOCATION:Local\, Le temps d’un café\, 13 bis avenue Pierre Coupeau\, Balma\, 31130\, France
CATEGORIES:Ecriture
ATTACH;FMTTYPE=image/jpeg:https://letempsduncafebalma.fr/wp-content/uploads/writing-923882_1280.jpg
END:VEVENT
BEGIN:VEVENT
DTSTART;TZID=Europe/Paris:20260521T140000
DTEND;TZID=Europe/Paris:20260521T150000
DTSTAMP:20260425T142342
CREATED:20260420T082212Z
LAST-MODIFIED:20260420T082212Z
UID:10010-1779372000-1779375600@letempsduncafebalma.fr
SUMMARY:Temps d'un pixel
DESCRIPTION:Rejoignez le club photo de l’association\, chez Jean Noël
URL:https://letempsduncafebalma.fr/evenement/temps-dun-pixel-7/
CATEGORIES:Art,Temps d'un pixel
ATTACH;FMTTYPE=image/jpeg:https://letempsduncafebalma.fr/wp-content/uploads/cameras-3480569_1280.jpg
END:VEVENT
BEGIN:VEVENT
DTSTART;TZID=Europe/Paris:20260522T090000
DTEND;TZID=Europe/Paris:20260522T123000
DTSTAMP:20260425T142342
CREATED:20260227T100225Z
LAST-MODIFIED:20260227T100225Z
UID:9736-1779440400-1779453000@letempsduncafebalma.fr
SUMMARY:Atelier numérique pratique (sur inscription)
DESCRIPTION:Sur inscription (6 places par session) par mail gwenaelle.guillon.gg@gmail.com ou s’inscrire sur la liste d’attente au local \nGwénaëlle vous propose un rendez vous pour un atelier pratique en petit groupe\, pour vous aider ou vous apprendre à vous servir du numérique (téléphone portable\, ordinateur\, tablette). \nVous devez apporter votre matériel. \n 
URL:https://letempsduncafebalma.fr/evenement/atelier-numerique-pratique-sur-inscription-11/
LOCATION:Local\, Le temps d’un café\, 13 bis avenue Pierre Coupeau\, Balma\, 31130\, France
CATEGORIES:Atelier,Rencontre
ATTACH;FMTTYPE=image/png:https://letempsduncafebalma.fr/wp-content/uploads/Design-sans-titre-1.png
END:VEVENT
BEGIN:VEVENT
DTSTART;TZID=Europe/Paris:20260522T190000
DTEND;TZID=Europe/Paris:20260522T210000
DTSTAMP:20260425T142342
CREATED:20260324T143600Z
LAST-MODIFIED:20260418T100052Z
UID:9881-1779476400-1779483600@letempsduncafebalma.fr
SUMMARY:Temps d'une soirée: Nos chansons préférées
DESCRIPTION:Venez partager avec nous le temps d’une soirée\, un moment convivial et chaleureux\, à notre local. L’occasion d’échanger et faire des rencontres avec les membres de l’association. Repas partagé. Pour cette soirée\, merci de contacter Josette Sens: 06 83 10 82 28 \n 
URL:https://letempsduncafebalma.fr/evenement/temps-dune-soiree-5/
LOCATION:Local\, Le temps d’un café\, 13 bis avenue Pierre Coupeau\, Balma\, 31130\, France
CATEGORIES:Rencontre,Repas
ATTACH;FMTTYPE=image/jpeg:https://letempsduncafebalma.fr/wp-content/uploads/wine-791133_1280.jpg
END:VEVENT
BEGIN:VEVENT
DTSTART;TZID=Europe/Paris:20260526T173000
DTEND;TZID=Europe/Paris:20260526T200000
DTSTAMP:20260425T142342
CREATED:20260418T095415Z
LAST-MODIFIED:20260418T095415Z
UID:9967-1779816600-1779825600@letempsduncafebalma.fr
SUMMARY:Conversation amicale autour d'un verre: Point sur les compléments alimentaires
DESCRIPTION:Chaque Mardi soir*\, de 18h à 20h\, au local\, Josette propose de nous retrouver autour d’un verre pour discuter de sujet d’actualité\, personnels ou encore sociétaux. Chaque semaine\, un nouveau thème sera proposé.  \n  \n*Excepté le 3 ème mardi du mois en raison de l’apéro partagé \n 
URL:https://letempsduncafebalma.fr/evenement/conversation-amicale-autour-dun-verre-point-sur-les-complements-alimentaires/
CATEGORIES:Rencontre
ATTACH;FMTTYPE=image/jpeg:https://letempsduncafebalma.fr/wp-content/uploads/pexels-photo-8375042-8375042-scaled.jpg
END:VEVENT
BEGIN:VEVENT
DTSTART;TZID=Europe/Paris:20260527T090000
DTEND;TZID=Europe/Paris:20260527T100000
DTSTAMP:20260425T142342
CREATED:20260418T100719Z
LAST-MODIFIED:20260418T100719Z
UID:9992-1779872400-1779876000@letempsduncafebalma.fr
SUMMARY:Marche (dynamique)
DESCRIPTION:Rendez vous le mercredi route de Mons\, sur le parking de l’école Marie Laurencin ( en face de Carrefour City) \nNous marcherons en groupe pendant une heure à une heure à une heure et quart\, à un rythme dynamique. Ensuite\, nous rentrerons au local prendre une boisson chaude ou fraîche\, selon le temps.  \nDépart à 9h.
URL:https://letempsduncafebalma.fr/evenement/marche-dynamique-32/
LOCATION:Parking Carrefour City\, 11 Route de Mons\, Balma\, 31130\, France
CATEGORIES:Marche,Rencontre
ATTACH;FMTTYPE=image/jpeg:https://letempsduncafebalma.fr/wp-content/uploads/nature-conservation-4352793_1280.jpg
END:VEVENT
BEGIN:VEVENT
DTSTART;TZID=Europe/Paris:20260528T103000
DTEND;TZID=Europe/Paris:20260528T120000
DTSTAMP:20260425T142342
CREATED:20260420T082126Z
LAST-MODIFIED:20260420T082126Z
UID:10008-1779964200-1779969600@letempsduncafebalma.fr
SUMMARY:Décoration Florale
DESCRIPTION: Patricia initie à la décoration florale et propose une réalisation artistique. Etre inscrit auprès d’elle. \nChacun doit apporter son matériel.
URL:https://letempsduncafebalma.fr/evenement/decoration-florale-2/
LOCATION:Local\, Le temps d’un café\, 13 bis avenue Pierre Coupeau\, Balma\, 31130\, France
CATEGORIES:Art
ATTACH;FMTTYPE=image/jpeg:https://letempsduncafebalma.fr/wp-content/uploads/deco-676389_1280.jpg
END:VEVENT
BEGIN:VEVENT
DTSTART;TZID=Europe/Paris:20260529T143000
DTEND;TZID=Europe/Paris:20260529T163000
DTSTAMP:20260425T142342
CREATED:20260418T100127Z
LAST-MODIFIED:20260418T100127Z
UID:9982-1780065000-1780072200@letempsduncafebalma.fr
SUMMARY:Café parole:  Trouver ma vraie place
DESCRIPTION:Nous organisons régulièrement des cafés paroles\, ouverts à tous. Chacun est libre de venir et d’échanger avec le groupe sur un sujet choisi la séance précédente. Personne n’est obligé de parler\, vous pouvez simplement venir écouter. Tout se passe dans une ambiance bienveillante\, sans jugement. \n 
URL:https://letempsduncafebalma.fr/evenement/cafe-parole-trouver-ma-vraie-place/
LOCATION:Local\, Le temps d’un café\, 13 bis avenue Pierre Coupeau\, Balma\, 31130\, France
CATEGORIES:Café Parole
ATTACH;FMTTYPE=image/jpeg:https://letempsduncafebalma.fr/wp-content/uploads/coffee-2151200_1280.jpg
END:VEVENT
BEGIN:VEVENT
DTSTART;TZID=Europe/Paris:20260603T090000
DTEND;TZID=Europe/Paris:20260603T100000
DTSTAMP:20260425T142342
CREATED:20260418T100739Z
LAST-MODIFIED:20260418T100739Z
UID:9994-1780477200-1780480800@letempsduncafebalma.fr
SUMMARY:Marche (dynamique)
DESCRIPTION:Rendez vous le mercredi route de Mons\, sur le parking de l’école Marie Laurencin ( en face de Carrefour City) \nNous marcherons en groupe pendant une heure à une heure à une heure et quart\, à un rythme dynamique. Ensuite\, nous rentrerons au local prendre une boisson chaude ou fraîche\, selon le temps.  \nDépart à 9h.
URL:https://letempsduncafebalma.fr/evenement/marche-dynamique-33/
LOCATION:Parking Carrefour City\, 11 Route de Mons\, Balma\, 31130\, France
CATEGORIES:Marche,Rencontre
ATTACH;FMTTYPE=image/jpeg:https://letempsduncafebalma.fr/wp-content/uploads/nature-conservation-4352793_1280.jpg
END:VEVENT
BEGIN:VEVENT
DTSTART;TZID=Europe/Paris:20260603T103000
DTEND;TZID=Europe/Paris:20260603T120000
DTSTAMP:20260425T142342
CREATED:20260418T100441Z
LAST-MODIFIED:20260418T100441Z
UID:9986-1780482600-1780488000@letempsduncafebalma.fr
SUMMARY:Conversation Italienne
DESCRIPTION:Venez vous essayer à l’italien ou approfondir vos connaissance\, avec le groupe d’italien
URL:https://letempsduncafebalma.fr/evenement/conversation-italienne-15/
LOCATION:Local\, Le temps d’un café\, 13 bis avenue Pierre Coupeau\, Balma\, 31130\, France
CATEGORIES:Italien,Langues
ATTACH;FMTTYPE=image/jpeg:https://letempsduncafebalma.fr/wp-content/uploads/houses-1622066_1280.jpg
END:VEVENT
BEGIN:VEVENT
DTSTART;TZID=Europe/Paris:20260610T090000
DTEND;TZID=Europe/Paris:20260610T100000
DTSTAMP:20260425T142342
CREATED:20260418T100801Z
LAST-MODIFIED:20260418T100801Z
UID:9996-1781082000-1781085600@letempsduncafebalma.fr
SUMMARY:Marche (dynamique)
DESCRIPTION:Rendez vous le mercredi route de Mons\, sur le parking de l’école Marie Laurencin ( en face de Carrefour City) \nNous marcherons en groupe pendant une heure à une heure à une heure et quart\, à un rythme dynamique. Ensuite\, nous rentrerons au local prendre une boisson chaude ou fraîche\, selon le temps.  \nDépart à 9h.
URL:https://letempsduncafebalma.fr/evenement/marche-dynamique-34/
LOCATION:Parking Carrefour City\, 11 Route de Mons\, Balma\, 31130\, France
CATEGORIES:Marche,Rencontre
ATTACH;FMTTYPE=image/jpeg:https://letempsduncafebalma.fr/wp-content/uploads/nature-conservation-4352793_1280.jpg
END:VEVENT
BEGIN:VEVENT
DTSTART;TZID=Europe/Paris:20260617T090000
DTEND;TZID=Europe/Paris:20260617T100000
DTSTAMP:20260425T142342
CREATED:20260418T100818Z
LAST-MODIFIED:20260418T100818Z
UID:9998-1781686800-1781690400@letempsduncafebalma.fr
SUMMARY:Marche (dynamique)
DESCRIPTION:Rendez vous le mercredi route de Mons\, sur le parking de l’école Marie Laurencin ( en face de Carrefour City) \nNous marcherons en groupe pendant une heure à une heure à une heure et quart\, à un rythme dynamique. Ensuite\, nous rentrerons au local prendre une boisson chaude ou fraîche\, selon le temps.  \nDépart à 9h.
URL:https://letempsduncafebalma.fr/evenement/marche-dynamique-39/
LOCATION:Parking Carrefour City\, 11 Route de Mons\, Balma\, 31130\, France
CATEGORIES:Marche,Rencontre
ATTACH;FMTTYPE=image/jpeg:https://letempsduncafebalma.fr/wp-content/uploads/nature-conservation-4352793_1280.jpg
END:VEVENT
BEGIN:VEVENT
DTSTART;TZID=Europe/Paris:20260618T140000
DTEND;TZID=Europe/Paris:20260618T150000
DTSTAMP:20260425T142343
CREATED:20260420T082239Z
LAST-MODIFIED:20260420T082239Z
UID:10012-1781791200-1781794800@letempsduncafebalma.fr
SUMMARY:Temps d'un pixel
DESCRIPTION:Rejoignez le club photo de l’association\, chez Jean Noël
URL:https://letempsduncafebalma.fr/evenement/temps-dun-pixel-10/
CATEGORIES:Art,Temps d'un pixel
ATTACH;FMTTYPE=image/jpeg:https://letempsduncafebalma.fr/wp-content/uploads/cameras-3480569_1280.jpg
END:VEVENT
BEGIN:VEVENT
DTSTART;TZID=Europe/Paris:20260624T090000
DTEND;TZID=Europe/Paris:20260624T100000
DTSTAMP:20260425T142343
CREATED:20260418T100835Z
LAST-MODIFIED:20260418T100835Z
UID:10000-1782291600-1782295200@letempsduncafebalma.fr
SUMMARY:Marche (dynamique)
DESCRIPTION:Rendez vous le mercredi route de Mons\, sur le parking de l’école Marie Laurencin ( en face de Carrefour City) \nNous marcherons en groupe pendant une heure à une heure à une heure et quart\, à un rythme dynamique. Ensuite\, nous rentrerons au local prendre une boisson chaude ou fraîche\, selon le temps.  \nDépart à 9h.
URL:https://letempsduncafebalma.fr/evenement/marche-dynamique-40/
LOCATION:Parking Carrefour City\, 11 Route de Mons\, Balma\, 31130\, France
CATEGORIES:Marche,Rencontre
ATTACH;FMTTYPE=image/jpeg:https://letempsduncafebalma.fr/wp-content/uploads/nature-conservation-4352793_1280.jpg
END:VEVENT
END:VCALENDAR